BEGIN:VCALENDAR
VERSION:2.0
PRODID:-//Sciences &amp; Société - ECPv6.15.20//NONSGML v1.0//EN
CALSCALE:GREGORIAN
METHOD:PUBLISH
X-WR-CALNAME:Sciences &amp; Société
X-ORIGINAL-URL:https://www.science-societe.uha.fr
X-WR-CALDESC:Évènements pour Sciences &amp; Société
REFRESH-INTERVAL;VALUE=DURATION:PT1H
X-Robots-Tag:noindex
X-PUBLISHED-TTL:PT1H
BEGIN:VTIMEZONE
TZID:Europe/Paris
BEGIN:DAYLIGHT
TZOFFSETFROM:+0100
TZOFFSETTO:+0200
TZNAME:CEST
DTSTART:20250330T010000
END:DAYLIGHT
BEGIN:STANDARD
TZOFFSETFROM:+0200
TZOFFSETTO:+0100
TZNAME:CET
DTSTART:20251026T010000
END:STANDARD
BEGIN:DAYLIGHT
TZOFFSETFROM:+0100
TZOFFSETTO:+0200
TZNAME:CEST
DTSTART:20260329T010000
END:DAYLIGHT
BEGIN:STANDARD
TZOFFSETFROM:+0200
TZOFFSETTO:+0100
TZNAME:CET
DTSTART:20261025T010000
END:STANDARD
BEGIN:DAYLIGHT
TZOFFSETFROM:+0100
TZOFFSETTO:+0200
TZNAME:CEST
DTSTART:20270328T010000
END:DAYLIGHT
BEGIN:STANDARD
TZOFFSETFROM:+0200
TZOFFSETTO:+0100
TZNAME:CET
DTSTART:20271031T010000
END:STANDARD
END:VTIMEZONE
BEGIN:VEVENT
DTSTART;TZID=Europe/Paris:20260507T183000
DTEND;TZID=Europe/Paris:20260507T200000
DTSTAMP:20260422T125132
CREATED:20251010T085736Z
LAST-MODIFIED:20260408T081345Z
UID:4369-1778178600-1778184000@www.science-societe.uha.fr
SUMMARY:Cycle de conférence Sciences et Société de l'UP - Vous avez dit "cohabitation culturelle" ? Et si on parlait d'abord d'incommunication ?
DESCRIPTION:Conférence	\n\n				\n				\n				\n		\n				\n				\n					\n		\n		\n	Sociétés\n	\n\n				\n				\n				\n				\n				\n				\n					Cycle de conférences Sciences et Société de l'UP				\n				\n				\n				\n									Vous avez dit « cohabitation culturelle » ? Et si on parlait d’abord d’incommunication ?								\n				\n				\n				\n									Avant d’invoquer la cohabitation culturelle\, regardons d’abord ce qui entrave le dialogue interculturel. Clichés\, préjugés et représentations négatives des étrangers circulent dans les espaces médiatiques et politiques\, nourrissant la peur de l’autre. Les obstacles au vivre-ensemble sont largement commentés\, voire instrumentalisés dans les espaces publics. Cette conférence propose une plongée lucide dans ce qui échappe souvent à l’analyse\, pour bousculer les idées reçues et les imaginaires collectifs : l’incommunication.   L’intervenante : Johanne Samè est maîtresse de conférences en sciences de l’information et de la communication et chercheuse au Centre de Recherche sur les Économies\, les Sociétés\, les Arts et les Techniques (CRESAT) à l’Université de Haute-Alsace. 								\n				\n				\n		\n				\n			\n	\n	\n	\n		\n				\n				\n							\n			\n		\n						\n				\n				\n				\n									Informations pratiques 								\n				\n				\n				\n							\n							\n											\n													\n										7 mai 2026\n									\n								\n											\n													\n										18H30 - 20H\n									\n								\n											\n													\n										  Tout public\n									\n								\n											\n													\n										Entrée gratuite\n									\n								\n											\n													\n										Université Populaire du Rhin\, salle de conférence de la Cour des Chaînes\, 13 rue des Franciscains\, Mulhouse\n									\n						\n						\n				\n				\n				\n							\n			\n		\n						\n				\n				\n				\n							\n			\n		\n						\n				\n				\n				\n							\n			\n		\n						\n				\n				\n				\n					\n	\n		\n\n	\n	Ajouter au calendrier	\n		\n	\n\n		\n			\n									\n	Google Agenda\n\n									\n	iCalendar\n\n									\n	Outlook 365\n\n									\n	Outlook Live\n\n							\n		\n\n		\n	\n\n				\n				\n				\n				\n									Nous retrouver sur : 								\n				\n				\n				\n							\n							\n					\n						Facebook\n											\n				\n							\n					\n						Instagram\n											\n				\n							\n					\n						Linkedin\n											\n				\n							\n					\n						Youtube\n											\n				\n					\n						\n				\n				\n				\n							\n			\n		\n						\n				\n				\n				\n									\n					\n						\n									UP du Rhin\n					\n					\n				\n								\n				\n				\n				\n							\n			\n		\n						\n				\n				\n				\n		\n				\n				\n					\n	« Tous les Évènements
URL:https://www.science-societe.uha.fr/agenda/cycle-de-conference-sciences-et-societe-de-lup-vous-avez-dit-cohabitation-culturelle-et-si-on-parlait-dabord-dincommunication/
LOCATION:Université Populaire du Rhin\, 13 rue des Franciscains\, Mulhouse\, 68100\, France
CATEGORIES:Conférence
ATTACH;FMTTYPE=image/png:https://www.science-societe.uha.fr/wp-content/uploads/Incommunication-e1762434113947.png
ORGANIZER;CN="Universit%C3%A9 Populaire du Rhin":MAILTO:contact@universitepopulaire.fr
END:VEVENT
END:VCALENDAR